BEGIN:VCALENDAR
VERSION:2.0
BEGIN:VEVENT
UID:25CCD9BD-51B2-4028-90A3-FCF6D15241F2
DTSTART:20220217T113000Z
DTEND:20220217T133000Z
SUMMARY:Assistance League of Coppell Regular Meeting
DESCRIPTION:Assistance League of Coppell is dedicated to making a differenc
 e in our area through philanthropic programs which touch the lives of chil
 dren\, families and seniors. Last year\, Assistance League of Coppell memb
 ers volunteered over 2\,000 hours and gave over $19\,000 to our community.
    \nOur next regular meeting will be Thursday\, February 17 at Valley Ran
 ch Baptist church (1501 Beltline Road).  Lunch will be served at 11:30 and
  the meeting begins at noon.   \nOur speaker this month will be a family n
 urse practitioner from Lifestream Health Centre and Med Spa  who will disc
 uss supplements for brain and body health.  \nWe hope to see you on Thursd
 ay.\nValley Ranch Baptist Church\n1501 E Beltline Road\nCoppell\, TX 75019
  United States\n
LOCATION:1501 E Beltline Road\, Coppell\, TX 75019
URL:http://coppell.bubblelife.com/community/coppell_calendar/library/356263
 4/key/3511168873/Assistance_League_of_Coppell_Regular_Meeting
CREATED:20220215T222044Z
LAST-MODIFIED:20220215T222044Z
DTSTAMP:20260420T114031Z
CLASS:PUBLIC
STATUS:CONFIRMED
TRANSP:TRANSPARENT
SEQUENCE:1
END:VEVENT
END:VCALENDAR
