BEGIN:VCALENDAR
VERSION:2.0
BEGIN:VEVENT
UID:7FC9DCDC-C4C4-478A-83CE-DD68FEC7E9A2
DTSTART:20230930T100000Z
DTEND:20230930T190000Z
SUMMARY:Exhibition & Sale of Designer Garments & Jewelry
DESCRIPTION:Unlocking the runway magic at the most anticipated fashion exhi
 bition of the season - Falak Collections  \nGet ready for our relaunch fea
 turing a stunning new collection of Designer Garments for online and in-pe
 rson shopping. \nJoin Us Tomorrow\; \nSaturday\, 30th September 10 AM - 7
  PM for a Spectacular Fashion and Jewelry Exhibition. \nExplore Exclusive
  Designer Indo-Western Attire\, Elegant Sarees\, Lenghas\, Blouses\, Kurti
 s\, and More! \nDiscover Your Style: Unveil the Glamour! \n@Falak Collecti
 ons Venue: 716 Castle Creek Dr\, Coppell\, TX 75019 M: +19723521279 \nJoin
  Falak Collections Online Store WhatsApp Community: http://bit.ly/FalakCol
 lectionsOnlineStoreWhatsAppCommunity \nFollow us on: \n@falakcollections F
 B: Falak Collection www.falakcollections.com\nNisha Shah\nFalak Collection
 s - 716\, Castle Creek Drive\nCOPPELL\, TX 75019 United States\n
LOCATION:Falak Collections - 716\, Castle Creek Drive\, COPPELL\, TX 75019
URL:http://coppell.bubblelife.com/community/falak_art_studio_1/library/3519
 064911/key/3511064750/Exhibition_Sale_of_Designer_Garments_Jewelry
CREATED:20230929T173114Z
LAST-MODIFIED:20230929T173114Z
DTSTAMP:20260422T235126Z
CLASS:PUBLIC
STATUS:CONFIRMED
TRANSP:TRANSPARENT
SEQUENCE:1
END:VEVENT
END:VCALENDAR
